BEGIN:VCALENDAR
VERSION:2.0
PRODID:-//Coaching Conversations Cincinnati//EN
BEGIN:VEVENT
UID:1@coachingconversationscinti.org
DTSTAMP:20260425T215534Z
DTSTART:20260518T213000Z
DTEND:20260519T000000Z
SUMMARY:Situational Awareness and Self Defense for Professional Women
DESCRIPTION:Have you ever felt uncomfortable leaving a business function by yourself? 
LOCATION:Rookwood Conference Center 
END:VEVENT
END:VCALENDAR